BEGIN:VCALENDAR
VERSION:2.0
PRODID:-//wp-events-plugin.com//7.2.3.1//EN
BEGIN:VEVENT
UID:1@gracietorres.com
DTSTART;TZID=America/Los_Angeles:20231209T150000
DTEND;TZID=America/Los_Angeles:20231209T160000
DTSTAMP:20231203T221845Z
URL:https://gracietorres.com/events/on-the-ballot-fundraiser/
SUMMARY:On the Ballot Fundraiser
DESCRIPTION:
END:VEVENT
BEGIN:VEVENT
UID:2@gracietorres.com
DTSTART;TZID=America/Los_Angeles:20251001T180000
DTEND;TZID=America/Los_Angeles:20251001T200000
DTSTAMP:20250906T172944Z
URL:https://gracietorres.com/events/city-council-campaign-launch-10-1/
SUMMARY:City Council Campaign Launch - 10/1
DESCRIPTION:
ATTACH;FMTTYPE=image/jpeg:https://i0.wp.com/gracietorres.com/wp-content/up
 loads/2018/08/announcement-alt-event.png?fit=1080%2C1440&ssl=1
LOCATION:https://www.efundraisingconnections.com/c/GracieTorresforRiverside
 CityCouncil/GracieTorresforCityCouncilOct1Fundraiser
END:VEVENT
BEGIN:VTIMEZONE
TZID:America/Los_Angeles
X-LIC-LOCATION:America/Los_Angeles
BEGIN:STANDARD
DTSTART:20231105T010000
TZOFFSETFROM:-0700
TZOFFSETTO:-0800
TZNAME:PST
END:STANDARD
BEGIN:DAYLIGHT
DTSTART:20240310T030000
TZOFFSETFROM:-0800
TZOFFSETTO:-0700
TZNAME:PDT
END:DAYLIGHT
BEGIN:STANDARD
DTSTART:20241103T010000
TZOFFSETFROM:-0700
TZOFFSETTO:-0800
TZNAME:PST
END:STANDARD
BEGIN:DAYLIGHT
DTSTART:20250309T030000
TZOFFSETFROM:-0800
TZOFFSETTO:-0700
TZNAME:PDT
END:DAYLIGHT
END:VTIMEZONE
END:VCALENDAR